BEGIN:VCALENDAR
VERSION:2.0
PRODID:-//Colegio Sagrada Familia Manises - ECPv6.15.20//NONSGML v1.0//EN
CALSCALE:GREGORIAN
METHOD:PUBLISH
X-WR-CALNAME:Colegio Sagrada Familia Manises
X-ORIGINAL-URL:https://www.sagradafamiliamanises.org
X-WR-CALDESC:Eventos para Colegio Sagrada Familia Manises
REFRESH-INTERVAL;VALUE=DURATION:PT1H
X-Robots-Tag:noindex
X-PUBLISHED-TTL:PT1H
BEGIN:VTIMEZONE
TZID:Europe/Madrid
BEGIN:DAYLIGHT
TZOFFSETFROM:+0100
TZOFFSETTO:+0200
TZNAME:CEST
DTSTART:20230326T010000
END:DAYLIGHT
BEGIN:STANDARD
TZOFFSETFROM:+0200
TZOFFSETTO:+0100
TZNAME:CET
DTSTART:20231029T010000
END:STANDARD
BEGIN:DAYLIGHT
TZOFFSETFROM:+0100
TZOFFSETTO:+0200
TZNAME:CEST
DTSTART:20240331T010000
END:DAYLIGHT
BEGIN:STANDARD
TZOFFSETFROM:+0200
TZOFFSETTO:+0100
TZNAME:CET
DTSTART:20241027T010000
END:STANDARD
BEGIN:DAYLIGHT
TZOFFSETFROM:+0100
TZOFFSETTO:+0200
TZNAME:CEST
DTSTART:20250330T010000
END:DAYLIGHT
BEGIN:STANDARD
TZOFFSETFROM:+0200
TZOFFSETTO:+0100
TZNAME:CET
DTSTART:20251026T010000
END:STANDARD
END:VTIMEZONE
BEGIN:VEVENT
DTSTART;VALUE=DATE:20241120
DTEND;VALUE=DATE:20241122
DTSTAMP:20260421T021754
CREATED:20241122T105434Z
LAST-MODIFIED:20241122T105434Z
UID:20205-1732060800-1732233599@www.sagradafamiliamanises.org
SUMMARY:Musical 3º ESO
DESCRIPTION:Viaje a Madrid para asistir al musical “Aladdin”
URL:https://www.sagradafamiliamanises.org/agenda/musical-3o-eso/
CATEGORIES:Secundaria
END:VEVENT
END:VCALENDAR