BEGIN:VCALENDAR
VERSION:2.0
PRODID:-//Colegio Sagrada Familia Manises - ECPv6.15.20//NONSGML v1.0//EN
CALSCALE:GREGORIAN
METHOD:PUBLISH
X-ORIGINAL-URL:https://www.sagradafamiliamanises.org
X-WR-CALDESC:Eventos para Colegio Sagrada Familia Manises
REFRESH-INTERVAL;VALUE=DURATION:PT1H
X-Robots-Tag:noindex
X-PUBLISHED-TTL:PT1H
BEGIN:VTIMEZONE
TZID:Europe/Madrid
BEGIN:DAYLIGHT
TZOFFSETFROM:+0100
TZOFFSETTO:+0200
TZNAME:CEST
DTSTART:20250330T010000
END:DAYLIGHT
BEGIN:STANDARD
TZOFFSETFROM:+0200
TZOFFSETTO:+0100
TZNAME:CET
DTSTART:20251026T010000
END:STANDARD
BEGIN:DAYLIGHT
TZOFFSETFROM:+0100
TZOFFSETTO:+0200
TZNAME:CEST
DTSTART:20260329T010000
END:DAYLIGHT
BEGIN:STANDARD
TZOFFSETFROM:+0200
TZOFFSETTO:+0100
TZNAME:CET
DTSTART:20261025T010000
END:STANDARD
BEGIN:DAYLIGHT
TZOFFSETFROM:+0100
TZOFFSETTO:+0200
TZNAME:CEST
DTSTART:20270328T010000
END:DAYLIGHT
BEGIN:STANDARD
TZOFFSETFROM:+0200
TZOFFSETTO:+0100
TZNAME:CET
DTSTART:20271031T010000
END:STANDARD
END:VTIMEZONE
BEGIN:VEVENT
DTSTART;VALUE=DATE:20260304
DTEND;VALUE=DATE:20260305
DTSTAMP:20260422T205535
CREATED:20260222T173652Z
LAST-MODIFIED:20260222T173724Z
UID:22503-1772582400-1772668799@www.sagradafamiliamanises.org
SUMMARY:Opera "La Traviata" - 3º-4º ESO
DESCRIPTION:
URL:https://www.sagradafamiliamanises.org/agenda/opera-la-traviata-3o-4o-eso/
CATEGORIES:Secundaria
END:VEVENT
BEGIN:VEVENT
DTSTART;VALUE=DATE:20260304
DTEND;VALUE=DATE:20260305
DTSTAMP:20260422T205535
CREATED:20260302T110622Z
LAST-MODIFIED:20260302T192648Z
UID:22576-1772582400-1772668799@www.sagradafamiliamanises.org
SUMMARY:Aplazada: Granja-escuela Sanabria - Infantil
DESCRIPTION:3 años B\, 4 años B\, 5 años B
URL:https://www.sagradafamiliamanises.org/agenda/granja-escuela-sanabria-infantil-2/
CATEGORIES:Infantil
END:VEVENT
BEGIN:VEVENT
DTSTART;TZID=Europe/Madrid:20260304T090000
DTEND;TZID=Europe/Madrid:20260304T103000
DTSTAMP:20260422T205535
CREATED:20260302T110235Z
LAST-MODIFIED:20260302T110235Z
UID:22571-1772614800-1772620200@www.sagradafamiliamanises.org
SUMMARY:Taller menstruación - 5º-6º Primaria
DESCRIPTION:
URL:https://www.sagradafamiliamanises.org/agenda/taller-menstruacion-5o-6o-primaria/
CATEGORIES:Primaria
END:VEVENT
END:VCALENDAR