BEGIN:VCALENDAR
VERSION:2.0
PRODID:-//Colegio Sagrada Familia Manises - ECPv6.15.20//NONSGML v1.0//EN
CALSCALE:GREGORIAN
METHOD:PUBLISH
X-WR-CALNAME:Colegio Sagrada Familia Manises
X-ORIGINAL-URL:https://www.sagradafamiliamanises.org
X-WR-CALDESC:Eventos para Colegio Sagrada Familia Manises
REFRESH-INTERVAL;VALUE=DURATION:PT1H
X-Robots-Tag:noindex
X-PUBLISHED-TTL:PT1H
BEGIN:VTIMEZONE
TZID:Europe/Madrid
BEGIN:DAYLIGHT
TZOFFSETFROM:+0100
TZOFFSETTO:+0200
TZNAME:CEST
DTSTART:20230326T010000
END:DAYLIGHT
BEGIN:STANDARD
TZOFFSETFROM:+0200
TZOFFSETTO:+0100
TZNAME:CET
DTSTART:20231029T010000
END:STANDARD
BEGIN:DAYLIGHT
TZOFFSETFROM:+0100
TZOFFSETTO:+0200
TZNAME:CEST
DTSTART:20240331T010000
END:DAYLIGHT
BEGIN:STANDARD
TZOFFSETFROM:+0200
TZOFFSETTO:+0100
TZNAME:CET
DTSTART:20241027T010000
END:STANDARD
BEGIN:DAYLIGHT
TZOFFSETFROM:+0100
TZOFFSETTO:+0200
TZNAME:CEST
DTSTART:20250330T010000
END:DAYLIGHT
BEGIN:STANDARD
TZOFFSETFROM:+0200
TZOFFSETTO:+0100
TZNAME:CET
DTSTART:20251026T010000
END:STANDARD
END:VTIMEZONE
BEGIN:VEVENT
DTSTART;VALUE=DATE:20241209
DTEND;VALUE=DATE:20241210
DTSTAMP:20260425T021011
CREATED:20241122T105823Z
LAST-MODIFIED:20241122T105823Z
UID:20207-1733702400-1733788799@www.sagradafamiliamanises.org
SUMMARY:Oceanogràfic
DESCRIPTION:Visita y taller al Oceanogràfic para 1º ESO y alumnado de Biología de 4º ESO
URL:https://www.sagradafamiliamanises.org/agenda/oceanografic/
CATEGORIES:Secundaria
END:VEVENT
BEGIN:VEVENT
DTSTART;VALUE=DATE:20241210
DTEND;VALUE=DATE:20241211
DTSTAMP:20260425T021011
CREATED:20241202T143153Z
LAST-MODIFIED:20241202T143153Z
UID:20256-1733788800-1733875199@www.sagradafamiliamanises.org
SUMMARY:Convivencias 3º-4º ESO
DESCRIPTION:
URL:https://www.sagradafamiliamanises.org/agenda/convivencias-3o-4o-eso/
CATEGORIES:Secundaria
END:VEVENT
BEGIN:VEVENT
DTSTART;VALUE=DATE:20241211
DTEND;VALUE=DATE:20241212
DTSTAMP:20260425T021011
CREATED:20241202T143346Z
LAST-MODIFIED:20241202T143346Z
UID:20258-1733875200-1733961599@www.sagradafamiliamanises.org
SUMMARY:Convivencias 1º-2º ESO
DESCRIPTION:
URL:https://www.sagradafamiliamanises.org/agenda/convivencias-1o-2o-eso/
CATEGORIES:Secundaria
END:VEVENT
BEGIN:VEVENT
DTSTART;VALUE=DATE:20241216
DTEND;VALUE=DATE:20241217
DTSTAMP:20260425T021011
CREATED:20241122T105922Z
LAST-MODIFIED:20241122T105922Z
UID:20209-1734307200-1734393599@www.sagradafamiliamanises.org
SUMMARY:Notas 1ª Evaluación
DESCRIPTION:Publicadas en Educamos
URL:https://www.sagradafamiliamanises.org/agenda/notas-1a-evaluacion-2/
CATEGORIES:Secundaria
END:VEVENT
END:VCALENDAR