BEGIN:VCALENDAR
VERSION:2.0
PRODID:-//Colegio Sagrada Familia Manises - ECPv6.15.20//NONSGML v1.0//EN
CALSCALE:GREGORIAN
METHOD:PUBLISH
X-ORIGINAL-URL:https://www.sagradafamiliamanises.org
X-WR-CALDESC:Eventos para Colegio Sagrada Familia Manises
REFRESH-INTERVAL;VALUE=DURATION:PT1H
X-Robots-Tag:noindex
X-PUBLISHED-TTL:PT1H
BEGIN:VTIMEZONE
TZID:Europe/Madrid
BEGIN:DAYLIGHT
TZOFFSETFROM:+0100
TZOFFSETTO:+0200
TZNAME:CEST
DTSTART:20250330T010000
END:DAYLIGHT
BEGIN:STANDARD
TZOFFSETFROM:+0200
TZOFFSETTO:+0100
TZNAME:CET
DTSTART:20251026T010000
END:STANDARD
BEGIN:DAYLIGHT
TZOFFSETFROM:+0100
TZOFFSETTO:+0200
TZNAME:CEST
DTSTART:20260329T010000
END:DAYLIGHT
BEGIN:STANDARD
TZOFFSETFROM:+0200
TZOFFSETTO:+0100
TZNAME:CET
DTSTART:20261025T010000
END:STANDARD
BEGIN:DAYLIGHT
TZOFFSETFROM:+0100
TZOFFSETTO:+0200
TZNAME:CEST
DTSTART:20270328T010000
END:DAYLIGHT
BEGIN:STANDARD
TZOFFSETFROM:+0200
TZOFFSETTO:+0100
TZNAME:CET
DTSTART:20271031T010000
END:STANDARD
END:VTIMEZONE
BEGIN:VEVENT
DTSTART;VALUE=DATE:20260304
DTEND;VALUE=DATE:20260305
DTSTAMP:20260422T180622
CREATED:20260222T173652Z
LAST-MODIFIED:20260222T173724Z
UID:22503-1772582400-1772668799@www.sagradafamiliamanises.org
SUMMARY:Opera "La Traviata" - 3º-4º ESO
DESCRIPTION:
URL:https://www.sagradafamiliamanises.org/agenda/opera-la-traviata-3o-4o-eso/
CATEGORIES:Secundaria
END:VEVENT
BEGIN:VEVENT
DTSTART;TZID=Europe/Madrid:20260310T100000
DTEND;TZID=Europe/Madrid:20260310T133000
DTSTAMP:20260422T180622
CREATED:20260302T105444Z
LAST-MODIFIED:20260302T105444Z
UID:22566-1773136800-1773149400@www.sagradafamiliamanises.org
SUMMARY:Teatro "Tirant lo Blanc" - 3º ESO
DESCRIPTION:
URL:https://www.sagradafamiliamanises.org/agenda/teatro-tirant-lo-blanc-3o-eso/
CATEGORIES:Secundaria
END:VEVENT
BEGIN:VEVENT
DTSTART;VALUE=DATE:20260312
DTEND;VALUE=DATE:20260313
DTSTAMP:20260422T180622
CREATED:20260304T092823Z
LAST-MODIFIED:20260304T092823Z
UID:22641-1773273600-1773359999@www.sagradafamiliamanises.org
SUMMARY:Scholas 4º ESO
DESCRIPTION:
URL:https://www.sagradafamiliamanises.org/agenda/scholas-4o-eso/
CATEGORIES:Secundaria
END:VEVENT
BEGIN:VEVENT
DTSTART;TZID=Europe/Madrid:20260312T090000
DTEND;TZID=Europe/Madrid:20260312T123000
DTSTAMP:20260422T180622
CREATED:20260304T092912Z
LAST-MODIFIED:20260304T092912Z
UID:22643-1773306000-1773318600@www.sagradafamiliamanises.org
SUMMARY:Radio Manises - 2º ESO
DESCRIPTION:
URL:https://www.sagradafamiliamanises.org/agenda/radio-manises-2o-eso/
CATEGORIES:Secundaria
END:VEVENT
BEGIN:VEVENT
DTSTART;VALUE=DATE:20260316
DTEND;VALUE=DATE:20260317
DTSTAMP:20260422T180622
CREATED:20260222T173807Z
LAST-MODIFIED:20260222T173807Z
UID:22505-1773619200-1773705599@www.sagradafamiliamanises.org
SUMMARY:Notas 2ª Evaluación ESO
DESCRIPTION:
URL:https://www.sagradafamiliamanises.org/agenda/notas-2a-evaluacion-eso/
CATEGORIES:Secundaria
END:VEVENT
BEGIN:VEVENT
DTSTART;VALUE=DATE:20260323
DTEND;VALUE=DATE:20260324
DTSTAMP:20260422T180622
CREATED:20260222T173943Z
LAST-MODIFIED:20260222T173943Z
UID:22510-1774224000-1774310399@www.sagradafamiliamanises.org
SUMMARY:Taller música africana - 2º ESO
DESCRIPTION:
URL:https://www.sagradafamiliamanises.org/agenda/taller-musica-africana-2o-eso/
CATEGORIES:Secundaria
END:VEVENT
BEGIN:VEVENT
DTSTART;VALUE=DATE:20260324
DTEND;VALUE=DATE:20260325
DTSTAMP:20260422T180622
CREATED:20260303T110049Z
LAST-MODIFIED:20260303T110049Z
UID:22615-1774310400-1774396799@www.sagradafamiliamanises.org
SUMMARY:Scholas 3º ESO
DESCRIPTION:
URL:https://www.sagradafamiliamanises.org/agenda/scholas-3o-eso/
CATEGORIES:Secundaria
END:VEVENT
BEGIN:VEVENT
DTSTART;TZID=Europe/Madrid:20260324T113000
DTEND;TZID=Europe/Madrid:20260324T130000
DTSTAMP:20260422T180622
CREATED:20260304T093128Z
LAST-MODIFIED:20260304T093128Z
UID:22646-1774351800-1774357200@www.sagradafamiliamanises.org
SUMMARY:Charlas  "Cuidem junts" - 4º ESO
DESCRIPTION:
URL:https://www.sagradafamiliamanises.org/agenda/charlas-cuidem-junts-4o-eso/
CATEGORIES:Secundaria
END:VEVENT
BEGIN:VEVENT
DTSTART;TZID=Europe/Madrid:20260325T170000
DTEND;TZID=Europe/Madrid:20260325T190000
DTSTAMP:20260422T180622
CREATED:20260330T064119Z
LAST-MODIFIED:20260330T064119Z
UID:22712-1774458000-1774465200@www.sagradafamiliamanises.org
SUMMARY:Reunión Orientación - Familias 4º ESO
DESCRIPTION:
URL:https://www.sagradafamiliamanises.org/agenda/reunion-orientacion-familias-4o-eso/
CATEGORIES:Secundaria
END:VEVENT
BEGIN:VEVENT
DTSTART;VALUE=DATE:20260330
DTEND;VALUE=DATE:20260331
DTSTAMP:20260422T180622
CREATED:20260303T111350Z
LAST-MODIFIED:20260303T111350Z
UID:22628-1774828800-1774915199@www.sagradafamiliamanises.org
SUMMARY:Espectáculo Recicla't 1º-4º ESO
DESCRIPTION:
URL:https://www.sagradafamiliamanises.org/agenda/espectaculo-reciclat-1o-4o-eso/
CATEGORIES:Secundaria
END:VEVENT
END:VCALENDAR