BEGIN:VCALENDAR
VERSION:2.0
PRODID:-//Colegio Sagrada Familia Manises - ECPv6.15.20//NONSGML v1.0//EN
CALSCALE:GREGORIAN
METHOD:PUBLISH
X-ORIGINAL-URL:https://www.sagradafamiliamanises.org
X-WR-CALDESC:Eventos para Colegio Sagrada Familia Manises
REFRESH-INTERVAL;VALUE=DURATION:PT1H
X-Robots-Tag:noindex
X-PUBLISHED-TTL:PT1H
BEGIN:VTIMEZONE
TZID:Europe/Madrid
BEGIN:DAYLIGHT
TZOFFSETFROM:+0100
TZOFFSETTO:+0200
TZNAME:CEST
DTSTART:20230326T010000
END:DAYLIGHT
BEGIN:STANDARD
TZOFFSETFROM:+0200
TZOFFSETTO:+0100
TZNAME:CET
DTSTART:20231029T010000
END:STANDARD
BEGIN:DAYLIGHT
TZOFFSETFROM:+0100
TZOFFSETTO:+0200
TZNAME:CEST
DTSTART:20240331T010000
END:DAYLIGHT
BEGIN:STANDARD
TZOFFSETFROM:+0200
TZOFFSETTO:+0100
TZNAME:CET
DTSTART:20241027T010000
END:STANDARD
BEGIN:DAYLIGHT
TZOFFSETFROM:+0100
TZOFFSETTO:+0200
TZNAME:CEST
DTSTART:20250330T010000
END:DAYLIGHT
BEGIN:STANDARD
TZOFFSETFROM:+0200
TZOFFSETTO:+0100
TZNAME:CET
DTSTART:20251026T010000
END:STANDARD
BEGIN:DAYLIGHT
TZOFFSETFROM:+0100
TZOFFSETTO:+0200
TZNAME:CEST
DTSTART:20260329T010000
END:DAYLIGHT
BEGIN:STANDARD
TZOFFSETFROM:+0200
TZOFFSETTO:+0100
TZNAME:CET
DTSTART:20261025T010000
END:STANDARD
BEGIN:DAYLIGHT
TZOFFSETFROM:+0100
TZOFFSETTO:+0200
TZNAME:CEST
DTSTART:20270328T010000
END:DAYLIGHT
BEGIN:STANDARD
TZOFFSETFROM:+0200
TZOFFSETTO:+0100
TZNAME:CET
DTSTART:20271031T010000
END:STANDARD
END:VTIMEZONE
BEGIN:VEVENT
DTSTART;VALUE=DATE:20241216
DTEND;VALUE=DATE:20241217
DTSTAMP:20260421T050554
CREATED:20241122T105922Z
LAST-MODIFIED:20241122T105922Z
UID:20209-1734307200-1734393599@www.sagradafamiliamanises.org
SUMMARY:Notas 1ª Evaluación
DESCRIPTION:Publicadas en Educamos
URL:https://www.sagradafamiliamanises.org/agenda/notas-1a-evaluacion-2/
CATEGORIES:Secundaria
END:VEVENT
BEGIN:VEVENT
DTSTART;TZID=Europe/Madrid:20241216T090000
DTEND;TZID=Europe/Madrid:20241216T133000
DTSTAMP:20260421T050554
CREATED:20241211T174156Z
LAST-MODIFIED:20241211T174156Z
UID:20336-1734339600-1734355800@www.sagradafamiliamanises.org
SUMMARY:Nadalenques al carrer - 4º Primaria
DESCRIPTION:
URL:https://www.sagradafamiliamanises.org/agenda/nadalenques-al-carrer-4o-primaria/
CATEGORIES:Primaria
END:VEVENT
BEGIN:VEVENT
DTSTART;TZID=Europe/Madrid:20241216T093000
DTEND;TZID=Europe/Madrid:20241216T123000
DTSTAMP:20260421T050554
CREATED:20241211T174026Z
LAST-MODIFIED:20241211T174026Z
UID:20333-1734341400-1734352200@www.sagradafamiliamanises.org
SUMMARY:Visita Ajuntament Manises - 1º-2º Primaria
DESCRIPTION:
URL:https://www.sagradafamiliamanises.org/agenda/visita-ajuntament-manises-1o-2o-primaria/
CATEGORIES:Primaria
END:VEVENT
BEGIN:VEVENT
DTSTART;TZID=Europe/Madrid:20241217T090000
DTEND;TZID=Europe/Madrid:20241217T123000
DTSTAMP:20260421T050554
CREATED:20241211T173641Z
LAST-MODIFIED:20241211T173641Z
UID:20329-1734426000-1734438600@www.sagradafamiliamanises.org
SUMMARY:Visita residencia - 1º-2º Primaria
DESCRIPTION:
URL:https://www.sagradafamiliamanises.org/agenda/visita-residencia-1o-2o-primaria/
CATEGORIES:Primaria
END:VEVENT
BEGIN:VEVENT
DTSTART;VALUE=DATE:20241223
DTEND;VALUE=DATE:20250107
DTSTAMP:20260421T050554
CREATED:20241122T110649Z
LAST-MODIFIED:20241122T110649Z
UID:20213-1734912000-1736207999@www.sagradafamiliamanises.org
SUMMARY:Vacaciones de Navidad
DESCRIPTION:
URL:https://www.sagradafamiliamanises.org/agenda/vacaciones-de-navidad-3/
CATEGORIES:Colegio
END:VEVENT
BEGIN:VEVENT
DTSTART;VALUE=DATE:20250108
DTEND;VALUE=DATE:20250109
DTSTAMP:20260421T050554
CREATED:20241211T173006Z
LAST-MODIFIED:20241211T173006Z
UID:20326-1736294400-1736380799@www.sagradafamiliamanises.org
SUMMARY:Ciudad de las Ciencias - 2º-3º ESO
DESCRIPTION:
URL:https://www.sagradafamiliamanises.org/agenda/ciudad-de-las-ciencias-2o-3o-eso/
CATEGORIES:Secundaria
END:VEVENT
BEGIN:VEVENT
DTSTART;VALUE=DATE:20250110
DTEND;VALUE=DATE:20250111
DTSTAMP:20260421T050554
CREATED:20241211T173817Z
LAST-MODIFIED:20241211T173817Z
UID:20331-1736467200-1736553599@www.sagradafamiliamanises.org
SUMMARY:Jornada de esquí - 6º Primaria
DESCRIPTION:
URL:https://www.sagradafamiliamanises.org/agenda/jornada-de-esqui-6o-primaria/
CATEGORIES:Primaria
END:VEVENT
BEGIN:VEVENT
DTSTART;VALUE=DATE:20250317
DTEND;VALUE=DATE:20250319
DTSTAMP:20260421T050554
CREATED:20241122T111018Z
LAST-MODIFIED:20241122T111018Z
UID:20217-1742169600-1742342399@www.sagradafamiliamanises.org
SUMMARY:No lectivo
DESCRIPTION:Día no lectivo según Consejo Escolar Municipal
URL:https://www.sagradafamiliamanises.org/agenda/no-lectivo/
CATEGORIES:Colegio
END:VEVENT
BEGIN:VEVENT
DTSTART;VALUE=DATE:20250319
DTEND;VALUE=DATE:20250320
DTSTAMP:20260421T050554
CREATED:20241122T111116Z
LAST-MODIFIED:20241122T111116Z
UID:20219-1742342400-1742428799@www.sagradafamiliamanises.org
SUMMARY:Festividad de San José
DESCRIPTION:
URL:https://www.sagradafamiliamanises.org/agenda/festividad-de-san-jose/
CATEGORIES:Colegio
END:VEVENT
BEGIN:VEVENT
DTSTART;VALUE=DATE:20250324
DTEND;VALUE=DATE:20250329
DTSTAMP:20260421T050554
CREATED:20241211T174323Z
LAST-MODIFIED:20241211T174323Z
UID:20338-1742774400-1743206399@www.sagradafamiliamanises.org
SUMMARY:Viaje fin promoción 4º ESO
DESCRIPTION:
URL:https://www.sagradafamiliamanises.org/agenda/viaje-fin-promocion-4o-eso/
CATEGORIES:Secundaria
END:VEVENT
BEGIN:VEVENT
DTSTART;VALUE=DATE:20250417
DTEND;VALUE=DATE:20250429
DTSTAMP:20260421T050554
CREATED:20241122T110824Z
LAST-MODIFIED:20241122T110824Z
UID:20215-1744848000-1745884799@www.sagradafamiliamanises.org
SUMMARY:Vacaciones de Pascua
DESCRIPTION:
URL:https://www.sagradafamiliamanises.org/agenda/vacaciones-de-pascua-3/
CATEGORIES:Colegio
END:VEVENT
BEGIN:VEVENT
DTSTART;VALUE=DATE:20250501
DTEND;VALUE=DATE:20250502
DTSTAMP:20260421T050554
CREATED:20241122T111317Z
LAST-MODIFIED:20241122T111317Z
UID:20221-1746057600-1746143999@www.sagradafamiliamanises.org
SUMMARY:Festividad 1º Mayo
DESCRIPTION:
URL:https://www.sagradafamiliamanises.org/agenda/festividad-1o-mayo/
CATEGORIES:Colegio
END:VEVENT
BEGIN:VEVENT
DTSTART;VALUE=DATE:20250502
DTEND;VALUE=DATE:20250503
DTSTAMP:20260421T050554
CREATED:20241122T111605Z
LAST-MODIFIED:20241122T111605Z
UID:20223-1746144000-1746230399@www.sagradafamiliamanises.org
SUMMARY:No lectivo
DESCRIPTION:Día no lectivo según Consejo Escolar Municipal
URL:https://www.sagradafamiliamanises.org/agenda/no-lectivo-2/
CATEGORIES:Colegio
END:VEVENT
BEGIN:VEVENT
DTSTART;VALUE=DATE:20251223
DTEND;VALUE=DATE:20260107
DTSTAMP:20260421T050554
CREATED:20260222T170506Z
LAST-MODIFIED:20260222T170506Z
UID:22456-1766448000-1767743999@www.sagradafamiliamanises.org
SUMMARY:Vacaciones de Navidad
DESCRIPTION:
URL:https://www.sagradafamiliamanises.org/agenda/vacaciones-de-navidad-4/
CATEGORIES:Colegio
END:VEVENT
BEGIN:VEVENT
DTSTART;VALUE=DATE:20260113
DTEND;VALUE=DATE:20260114
DTSTAMP:20260421T050554
CREATED:20260222T170637Z
LAST-MODIFIED:20260222T170637Z
UID:22458-1768262400-1768348799@www.sagradafamiliamanises.org
SUMMARY:Ciudad de las Ciencias - 2º-3º ESO
DESCRIPTION:
URL:https://www.sagradafamiliamanises.org/agenda/ciudad-de-las-ciencias-2o-3o-eso-2/
CATEGORIES:Secundaria
END:VEVENT
BEGIN:VEVENT
DTSTART;TZID=Europe/Madrid:20260114T090000
DTEND;TZID=Europe/Madrid:20260114T100000
DTSTAMP:20260421T050554
CREATED:20260222T170835Z
LAST-MODIFIED:20260222T170835Z
UID:22461-1768381200-1768384800@www.sagradafamiliamanises.org
SUMMARY:Fira Orientat 4º ESO
DESCRIPTION:
URL:https://www.sagradafamiliamanises.org/agenda/fira-orientat-4o-eso/
CATEGORIES:Secundaria
END:VEVENT
BEGIN:VEVENT
DTSTART;TZID=Europe/Madrid:20260115T100000
DTEND;TZID=Europe/Madrid:20260115T110000
DTSTAMP:20260421T050554
CREATED:20260222T170933Z
LAST-MODIFIED:20260222T170933Z
UID:22463-1768471200-1768474800@www.sagradafamiliamanises.org
SUMMARY:Fira Orientat 4º ESO
DESCRIPTION:
URL:https://www.sagradafamiliamanises.org/agenda/fira-orientat-4o-eso-2/
CATEGORIES:Secundaria
END:VEVENT
BEGIN:VEVENT
DTSTART;VALUE=DATE:20260119
DTEND;VALUE=DATE:20260120
DTSTAMP:20260421T050554
CREATED:20260222T171112Z
LAST-MODIFIED:20260222T171112Z
UID:22465-1768780800-1768867199@www.sagradafamiliamanises.org
SUMMARY:Oceanográfico 1º ESO
DESCRIPTION:
URL:https://www.sagradafamiliamanises.org/agenda/oceanografico-1o-eso/
CATEGORIES:Secundaria
END:VEVENT
BEGIN:VEVENT
DTSTART;TZID=Europe/Madrid:20260119T090000
DTEND;TZID=Europe/Madrid:20260119T130000
DTSTAMP:20260421T050554
CREATED:20260222T171212Z
LAST-MODIFIED:20260222T171212Z
UID:22468-1768813200-1768827600@www.sagradafamiliamanises.org
SUMMARY:Teatro en Inglés 3º ESO
DESCRIPTION:
URL:https://www.sagradafamiliamanises.org/agenda/teatro-en-ingles-3o-eso/
CATEGORIES:Secundaria
END:VEVENT
BEGIN:VEVENT
DTSTART;TZID=Europe/Madrid:20260123T100000
DTEND;TZID=Europe/Madrid:20260123T110000
DTSTAMP:20260421T050554
CREATED:20260222T171324Z
LAST-MODIFIED:20260222T171324Z
UID:22470-1769162400-1769166000@www.sagradafamiliamanises.org
SUMMARY:Visita autora Valencià
DESCRIPTION:
URL:https://www.sagradafamiliamanises.org/agenda/visita-autora-valencia/
CATEGORIES:Secundaria
END:VEVENT
BEGIN:VEVENT
DTSTART;VALUE=DATE:20260128
DTEND;VALUE=DATE:20260129
DTSTAMP:20260421T050554
CREATED:20260222T171545Z
LAST-MODIFIED:20260222T171545Z
UID:22473-1769558400-1769644799@www.sagradafamiliamanises.org
SUMMARY:British Comunity Benidorm - 4º ESO
DESCRIPTION:
URL:https://www.sagradafamiliamanises.org/agenda/british-comunity-benidorm-4o-eso/
CATEGORIES:Secundaria
END:VEVENT
BEGIN:VEVENT
DTSTART;TZID=Europe/Madrid:20260129T090000
DTEND;TZID=Europe/Madrid:20260129T123000
DTSTAMP:20260421T050554
CREATED:20260222T171659Z
LAST-MODIFIED:20260222T171659Z
UID:22476-1769677200-1769689800@www.sagradafamiliamanises.org
SUMMARY:Emisión Radio Manises
DESCRIPTION:
URL:https://www.sagradafamiliamanises.org/agenda/emision-radio-manises/
CATEGORIES:Colegio
END:VEVENT
BEGIN:VEVENT
DTSTART;VALUE=DATE:20260130
DTEND;VALUE=DATE:20260131
DTSTAMP:20260421T050554
CREATED:20260222T171752Z
LAST-MODIFIED:20260222T171752Z
UID:22478-1769731200-1769817599@www.sagradafamiliamanises.org
SUMMARY:Día de la Paz y la No Violencia
DESCRIPTION:
URL:https://www.sagradafamiliamanises.org/agenda/dia-de-la-paz-y-la-no-violencia-2/
CATEGORIES:Colegio
END:VEVENT
BEGIN:VEVENT
DTSTART;VALUE=DATE:20260203
DTEND;VALUE=DATE:20260204
DTSTAMP:20260421T050554
CREATED:20260222T172011Z
LAST-MODIFIED:20260222T172011Z
UID:22480-1770076800-1770163199@www.sagradafamiliamanises.org
SUMMARY:Donación sangre Sang Valentí
DESCRIPTION:
URL:https://www.sagradafamiliamanises.org/agenda/donacion-sangre-sang-valenti/
CATEGORIES:Colegio
END:VEVENT
BEGIN:VEVENT
DTSTART;TZID=Europe/Madrid:20260203T090000
DTEND;TZID=Europe/Madrid:20260203T130000
DTSTAMP:20260421T050554
CREATED:20260222T172231Z
LAST-MODIFIED:20260222T172231Z
UID:22483-1770109200-1770123600@www.sagradafamiliamanises.org
SUMMARY:Charlas UPCCA 3º-4º ESO
DESCRIPTION:Relaciones de pareja adolescentes
URL:https://www.sagradafamiliamanises.org/agenda/charlas-upcca-3o-4o-eso/
CATEGORIES:Secundaria
END:VEVENT
BEGIN:VEVENT
DTSTART;TZID=Europe/Madrid:20260204T090000
DTEND;TZID=Europe/Madrid:20260204T130000
DTSTAMP:20260421T050554
CREATED:20260222T172348Z
LAST-MODIFIED:20260222T172348Z
UID:22485-1770195600-1770210000@www.sagradafamiliamanises.org
SUMMARY:Charlas UPCCA 1º-2º ESO
DESCRIPTION:Salud mental
URL:https://www.sagradafamiliamanises.org/agenda/charlas-upcca-1o-2o-eso/
CATEGORIES:Secundaria
END:VEVENT
BEGIN:VEVENT
DTSTART;TZID=Europe/Madrid:20260205T080000
DTEND;TZID=Europe/Madrid:20260205T090000
DTSTAMP:20260421T050554
CREATED:20260222T172536Z
LAST-MODIFIED:20260222T172536Z
UID:22488-1770278400-1770282000@www.sagradafamiliamanises.org
SUMMARY:Charla bachillerato LaSalle - 4º ESO
DESCRIPTION:
URL:https://www.sagradafamiliamanises.org/agenda/charla-bachillerato-lasalle-4o-eso/
CATEGORIES:Secundaria
END:VEVENT
BEGIN:VEVENT
DTSTART;VALUE=DATE:20260206
DTEND;VALUE=DATE:20260207
DTSTAMP:20260421T050554
CREATED:20260222T172615Z
LAST-MODIFIED:20260222T172615Z
UID:22491-1770336000-1770422399@www.sagradafamiliamanises.org
SUMMARY:Almuerzo solidario - Manos Unidas
DESCRIPTION:
URL:https://www.sagradafamiliamanises.org/agenda/almuerzo-solidario-manos-unidas/
CATEGORIES:Colegio
END:VEVENT
BEGIN:VEVENT
DTSTART;TZID=Europe/Madrid:20260211T090000
DTEND;TZID=Europe/Madrid:20260211T130000
DTSTAMP:20260421T050554
CREATED:20260222T172755Z
LAST-MODIFIED:20260222T172755Z
UID:22494-1770800400-1770814800@www.sagradafamiliamanises.org
SUMMARY:Charlas UPCCA 1º-2º ESO
DESCRIPTION:Tecnologías
URL:https://www.sagradafamiliamanises.org/agenda/charlas-upcca-1o-2o-eso-2/
CATEGORIES:Secundaria
END:VEVENT
BEGIN:VEVENT
DTSTART;VALUE=DATE:20260213
DTEND;VALUE=DATE:20260214
DTSTAMP:20260421T050554
CREATED:20260223T085123Z
LAST-MODIFIED:20260223T085123Z
UID:22546-1770940800-1771027199@www.sagradafamiliamanises.org
SUMMARY:Fábrica de chocolate 3º Primaria
DESCRIPTION:
URL:https://www.sagradafamiliamanises.org/agenda/fabrica-de-chocolate-3o-primaria-2/
CATEGORIES:Primaria
END:VEVENT
END:VCALENDAR