BEGIN:VCALENDAR
VERSION:2.0
PRODID:-//Colegio Sagrada Familia Manises - ECPv6.15.20//NONSGML v1.0//EN
CALSCALE:GREGORIAN
METHOD:PUBLISH
X-ORIGINAL-URL:https://www.sagradafamiliamanises.org
X-WR-CALDESC:Eventos para Colegio Sagrada Familia Manises
REFRESH-INTERVAL;VALUE=DURATION:PT1H
X-Robots-Tag:noindex
X-PUBLISHED-TTL:PT1H
BEGIN:VTIMEZONE
TZID:Europe/Madrid
BEGIN:DAYLIGHT
TZOFFSETFROM:+0100
TZOFFSETTO:+0200
TZNAME:CEST
DTSTART:20250330T010000
END:DAYLIGHT
BEGIN:STANDARD
TZOFFSETFROM:+0200
TZOFFSETTO:+0100
TZNAME:CET
DTSTART:20251026T010000
END:STANDARD
BEGIN:DAYLIGHT
TZOFFSETFROM:+0100
TZOFFSETTO:+0200
TZNAME:CEST
DTSTART:20260329T010000
END:DAYLIGHT
BEGIN:STANDARD
TZOFFSETFROM:+0200
TZOFFSETTO:+0100
TZNAME:CET
DTSTART:20261025T010000
END:STANDARD
BEGIN:DAYLIGHT
TZOFFSETFROM:+0100
TZOFFSETTO:+0200
TZNAME:CEST
DTSTART:20270328T010000
END:DAYLIGHT
BEGIN:STANDARD
TZOFFSETFROM:+0200
TZOFFSETTO:+0100
TZNAME:CET
DTSTART:20271031T010000
END:STANDARD
END:VTIMEZONE
BEGIN:VEVENT
DTSTART;VALUE=DATE:20260324
DTEND;VALUE=DATE:20260325
DTSTAMP:20260423T001940
CREATED:20260303T110049Z
LAST-MODIFIED:20260303T110049Z
UID:22615-1774310400-1774396799@www.sagradafamiliamanises.org
SUMMARY:Scholas 3º ESO
DESCRIPTION:
URL:https://www.sagradafamiliamanises.org/agenda/scholas-3o-eso/
CATEGORIES:Secundaria
END:VEVENT
BEGIN:VEVENT
DTSTART;VALUE=DATE:20260324
DTEND;VALUE=DATE:20260325
DTSTAMP:20260423T001940
CREATED:20260303T110430Z
LAST-MODIFIED:20260303T110430Z
UID:22617-1774310400-1774396799@www.sagradafamiliamanises.org
SUMMARY:JPA Infantil
DESCRIPTION:Visitas para nuevas familias en horario de 9:30-10:30 y 15:20-16:20
URL:https://www.sagradafamiliamanises.org/agenda/jpa-infantil/
CATEGORIES:Colegio
END:VEVENT
BEGIN:VEVENT
DTSTART;TZID=Europe/Madrid:20260324T113000
DTEND;TZID=Europe/Madrid:20260324T130000
DTSTAMP:20260423T001940
CREATED:20260304T093128Z
LAST-MODIFIED:20260304T093128Z
UID:22646-1774351800-1774357200@www.sagradafamiliamanises.org
SUMMARY:Charlas  "Cuidem junts" - 4º ESO
DESCRIPTION:
URL:https://www.sagradafamiliamanises.org/agenda/charlas-cuidem-junts-4o-eso/
CATEGORIES:Secundaria
END:VEVENT
BEGIN:VEVENT
DTSTART;VALUE=DATE:20260325
DTEND;VALUE=DATE:20260326
DTSTAMP:20260423T001940
CREATED:20260303T110731Z
LAST-MODIFIED:20260303T110731Z
UID:22620-1774396800-1774483199@www.sagradafamiliamanises.org
SUMMARY:JPA Primaria
DESCRIPTION:Visitas para nuevas familias en horario de 16:10 a 17:10 h.
URL:https://www.sagradafamiliamanises.org/agenda/jpa-primaria/
CATEGORIES:Colegio
END:VEVENT
BEGIN:VEVENT
DTSTART;VALUE=DATE:20260325
DTEND;VALUE=DATE:20260326
DTSTAMP:20260423T001940
CREATED:20260303T110831Z
LAST-MODIFIED:20260303T110831Z
UID:22622-1774396800-1774483199@www.sagradafamiliamanises.org
SUMMARY:JPA Secundaria
DESCRIPTION:Visitas para nuevas familias en horario de 15:10 a 16:10 h.
URL:https://www.sagradafamiliamanises.org/agenda/jpa-secundaria/
CATEGORIES:Colegio
END:VEVENT
BEGIN:VEVENT
DTSTART;VALUE=DATE:20260325
DTEND;VALUE=DATE:20260326
DTSTAMP:20260423T001940
CREATED:20260330T063646Z
LAST-MODIFIED:20260330T063646Z
UID:22706-1774396800-1774483199@www.sagradafamiliamanises.org
SUMMARY:Anem al teatre - 2º-3º Infantil
DESCRIPTION:
URL:https://www.sagradafamiliamanises.org/agenda/anem-al-teatre-2o-3o-infantil/
CATEGORIES:Infantil
END:VEVENT
BEGIN:VEVENT
DTSTART;TZID=Europe/Madrid:20260325T170000
DTEND;TZID=Europe/Madrid:20260325T190000
DTSTAMP:20260423T001940
CREATED:20260330T064119Z
LAST-MODIFIED:20260330T064119Z
UID:22712-1774458000-1774465200@www.sagradafamiliamanises.org
SUMMARY:Reunión Orientación - Familias 4º ESO
DESCRIPTION:
URL:https://www.sagradafamiliamanises.org/agenda/reunion-orientacion-familias-4o-eso/
CATEGORIES:Secundaria
END:VEVENT
BEGIN:VEVENT
DTSTART;VALUE=DATE:20260326
DTEND;VALUE=DATE:20260327
DTSTAMP:20260423T001940
CREATED:20260330T063845Z
LAST-MODIFIED:20260330T063845Z
UID:22710-1774483200-1774569599@www.sagradafamiliamanises.org
SUMMARY:Anem al teatre - 5º-6º Primaria
DESCRIPTION:
URL:https://www.sagradafamiliamanises.org/agenda/anem-al-teatre-5o-6o-primaria-3/
CATEGORIES:Primaria
END:VEVENT
BEGIN:VEVENT
DTSTART;VALUE=DATE:20260330
DTEND;VALUE=DATE:20260331
DTSTAMP:20260423T001940
CREATED:20260303T111350Z
LAST-MODIFIED:20260303T111350Z
UID:22628-1774828800-1774915199@www.sagradafamiliamanises.org
SUMMARY:Espectáculo Recicla't 1º-4º ESO
DESCRIPTION:
URL:https://www.sagradafamiliamanises.org/agenda/espectaculo-reciclat-1o-4o-eso/
CATEGORIES:Secundaria
END:VEVENT
BEGIN:VEVENT
DTSTART;VALUE=DATE:20260331
DTEND;VALUE=DATE:20260401
DTSTAMP:20260423T001940
CREATED:20260303T111011Z
LAST-MODIFIED:20260303T111011Z
UID:22624-1774915200-1775001599@www.sagradafamiliamanises.org
SUMMARY:JPA Infantil
DESCRIPTION:Visitas para nuevas familias en horario de 9:30-10:30 y 15:20-16:20 h.
URL:https://www.sagradafamiliamanises.org/agenda/jpa-infantil-2/
CATEGORIES:Colegio
END:VEVENT
BEGIN:VEVENT
DTSTART;VALUE=DATE:20260401
DTEND;VALUE=DATE:20260402
DTSTAMP:20260423T001940
CREATED:20260302T110810Z
LAST-MODIFIED:20260302T110810Z
UID:22579-1775001600-1775087999@www.sagradafamiliamanises.org
SUMMARY:Notas 2ª Evaluación - Infantil-Primaria
DESCRIPTION:
URL:https://www.sagradafamiliamanises.org/agenda/notas-2a-evaluacion-infantil-primaria/
CATEGORIES:Infantil,Primaria
END:VEVENT
BEGIN:VEVENT
DTSTART;VALUE=DATE:20260402
DTEND;VALUE=DATE:20260414
DTSTAMP:20260423T001940
CREATED:20260222T190644Z
LAST-MODIFIED:20260222T190644Z
UID:22512-1775088000-1776124799@www.sagradafamiliamanises.org
SUMMARY:Vacaciones de Pascua
DESCRIPTION:
URL:https://www.sagradafamiliamanises.org/agenda/vacaciones-de-pascua-4/
CATEGORIES:Colegio
END:VEVENT
BEGIN:VEVENT
DTSTART;TZID=Europe/Madrid:20260414T090000
DTEND;TZID=Europe/Madrid:20260414T130000
DTSTAMP:20260423T001940
CREATED:20260304T093414Z
LAST-MODIFIED:20260304T093414Z
UID:22648-1776157200-1776171600@www.sagradafamiliamanises.org
SUMMARY:Charlas "Cuerpos reales\, mentes sanas" - 3º-4º ESO
DESCRIPTION:
URL:https://www.sagradafamiliamanises.org/agenda/charlas-cuerpos-reales-mentes-sanas-3o-4o-eso/
CATEGORIES:Secundaria
END:VEVENT
BEGIN:VEVENT
DTSTART;VALUE=DATE:20260415
DTEND;VALUE=DATE:20260416
DTSTAMP:20260423T001940
CREATED:20260303T111117Z
LAST-MODIFIED:20260303T111117Z
UID:22626-1776211200-1776297599@www.sagradafamiliamanises.org
SUMMARY:JPA Infantil
DESCRIPTION:Visitas para nuevas familias en horario de 15:20 a 16:20 h.
URL:https://www.sagradafamiliamanises.org/agenda/jpa-infantil-3/
CATEGORIES:Colegio
END:VEVENT
BEGIN:VEVENT
DTSTART;VALUE=DATE:20260416
DTEND;VALUE=DATE:20260417
DTSTAMP:20260423T001940
CREATED:20260304T093456Z
LAST-MODIFIED:20260304T093456Z
UID:22651-1776297600-1776383999@www.sagradafamiliamanises.org
SUMMARY:Scholas - 4º ESO
DESCRIPTION:
URL:https://www.sagradafamiliamanises.org/agenda/scholas-4o-eso-2/
CATEGORIES:Secundaria
END:VEVENT
BEGIN:VEVENT
DTSTART;VALUE=DATE:20260416
DTEND;VALUE=DATE:20260417
DTSTAMP:20260423T001940
CREATED:20260330T063547Z
LAST-MODIFIED:20260330T063547Z
UID:22704-1776297600-1776383999@www.sagradafamiliamanises.org
SUMMARY:Anem al teatre - 3º-4º Primaria
DESCRIPTION:
URL:https://www.sagradafamiliamanises.org/agenda/anem-al-teatre-3o-4o-primaria-3/
CATEGORIES:Primaria
END:VEVENT
BEGIN:VEVENT
DTSTART;VALUE=DATE:20260417
DTEND;VALUE=DATE:20260418
DTSTAMP:20260423T001940
CREATED:20260302T111127Z
LAST-MODIFIED:20260302T111127Z
UID:22581-1776384000-1776470399@www.sagradafamiliamanises.org
SUMMARY:Encuentro musical diocesano - 4º Primaria
DESCRIPTION:
URL:https://www.sagradafamiliamanises.org/agenda/encuentro-musical-diocesano-4o-primaria/
CATEGORIES:Primaria
END:VEVENT
BEGIN:VEVENT
DTSTART;VALUE=DATE:20260421
DTEND;VALUE=DATE:20260422
DTSTAMP:20260423T001940
CREATED:20260304T093539Z
LAST-MODIFIED:20260304T093539Z
UID:22654-1776729600-1776815999@www.sagradafamiliamanises.org
SUMMARY:Scholas - 3º ESO
DESCRIPTION:
URL:https://www.sagradafamiliamanises.org/agenda/scholas-3o-eso-2/
CATEGORIES:Secundaria
END:VEVENT
BEGIN:VEVENT
DTSTART;VALUE=DATE:20260422
DTEND;VALUE=DATE:20260423
DTSTAMP:20260423T001940
CREATED:20260330T063415Z
LAST-MODIFIED:20260330T063415Z
UID:22702-1776816000-1776902399@www.sagradafamiliamanises.org
SUMMARY:El mago de Oz - Infantil
DESCRIPTION:
URL:https://www.sagradafamiliamanises.org/agenda/el-mago-de-oz-infantil/
CATEGORIES:Infantil
END:VEVENT
BEGIN:VEVENT
DTSTART;VALUE=DATE:20260423
DTEND;VALUE=DATE:20260424
DTSTAMP:20260423T001940
CREATED:20260303T111557Z
LAST-MODIFIED:20260303T111557Z
UID:22631-1776902400-1776988799@www.sagradafamiliamanises.org
SUMMARY:La Valencia que no vemos - 2º ESO
DESCRIPTION:
URL:https://www.sagradafamiliamanises.org/agenda/la-valencia-que-no-vemos-2o-eso/
CATEGORIES:Secundaria
END:VEVENT
BEGIN:VEVENT
DTSTART;VALUE=DATE:20260423
DTEND;VALUE=DATE:20260424
DTSTAMP:20260423T001940
CREATED:20260303T111745Z
LAST-MODIFIED:20260303T111745Z
UID:22634-1776902400-1776988799@www.sagradafamiliamanises.org
SUMMARY:Puntal dels Llops - 3º ESO
DESCRIPTION:
URL:https://www.sagradafamiliamanises.org/agenda/puntal-dels-llops-3o-eso/
CATEGORIES:Secundaria
END:VEVENT
BEGIN:VEVENT
DTSTART;VALUE=DATE:20260426
DTEND;VALUE=DATE:20260501
DTSTAMP:20260423T001940
CREATED:20260223T084759Z
LAST-MODIFIED:20260223T084759Z
UID:22542-1777161600-1777593599@www.sagradafamiliamanises.org
SUMMARY:Viaje final etapa - 4º ESO
DESCRIPTION:Masella
URL:https://www.sagradafamiliamanises.org/agenda/viaje-final-etapa-4o-eso/
CATEGORIES:Secundaria
END:VEVENT
BEGIN:VEVENT
DTSTART;VALUE=DATE:20260427
DTEND;VALUE=DATE:20260430
DTSTAMP:20260423T001940
CREATED:20260302T111307Z
LAST-MODIFIED:20260302T111307Z
UID:22584-1777248000-1777507199@www.sagradafamiliamanises.org
SUMMARY:Talayuelas - 4º Primaria
DESCRIPTION:
URL:https://www.sagradafamiliamanises.org/agenda/talayuelas-4o-primaria/
CATEGORIES:Primaria
END:VEVENT
BEGIN:VEVENT
DTSTART;VALUE=DATE:20260428
DTEND;VALUE=DATE:20260429
DTSTAMP:20260423T001940
CREATED:20260303T111849Z
LAST-MODIFIED:20260303T111849Z
UID:22637-1777334400-1777420799@www.sagradafamiliamanises.org
SUMMARY:Pruebas A2 Inglés
DESCRIPTION:
URL:https://www.sagradafamiliamanises.org/agenda/pruebas-a2-ingles/
CATEGORIES:Secundaria
END:VEVENT
BEGIN:VEVENT
DTSTART;VALUE=DATE:20260501
DTEND;VALUE=DATE:20260502
DTSTAMP:20260423T001940
CREATED:20260222T190827Z
LAST-MODIFIED:20260222T190827Z
UID:22514-1777593600-1777679999@www.sagradafamiliamanises.org
SUMMARY:Dia de los Trabajadores
DESCRIPTION:Día no lectivo
URL:https://www.sagradafamiliamanises.org/agenda/dia-de-los-trabajadores/
CATEGORIES:Colegio
END:VEVENT
BEGIN:VEVENT
DTSTART;VALUE=DATE:20260512
DTEND;VALUE=DATE:20260514
DTSTAMP:20260423T001940
CREATED:20260302T111543Z
LAST-MODIFIED:20260302T111543Z
UID:22589-1778544000-1778716799@www.sagradafamiliamanises.org
SUMMARY:Evaluación diagnóstica - 4º Primaria
DESCRIPTION:Pruebas de Consellería d’Educació
URL:https://www.sagradafamiliamanises.org/agenda/evaluacion-diagnostica-4o-primaria/
CATEGORIES:Primaria
END:VEVENT
BEGIN:VEVENT
DTSTART;VALUE=DATE:20260513
DTEND;VALUE=DATE:20260514
DTSTAMP:20260423T001940
CREATED:20260304T093906Z
LAST-MODIFIED:20260304T093906Z
UID:22656-1778630400-1778716799@www.sagradafamiliamanises.org
SUMMARY:Domus Baebia Sagunto - 1º ESO
DESCRIPTION:
URL:https://www.sagradafamiliamanises.org/agenda/domus-baebia-sagunto-1o-eso-2/
CATEGORIES:Secundaria
END:VEVENT
BEGIN:VEVENT
DTSTART;VALUE=DATE:20260514
DTEND;VALUE=DATE:20260516
DTSTAMP:20260423T001940
CREATED:20260304T094024Z
LAST-MODIFIED:20260304T094024Z
UID:22658-1778716800-1778889599@www.sagradafamiliamanises.org
SUMMARY:Evaluación diagnóstica - 2º ESO
DESCRIPTION:
URL:https://www.sagradafamiliamanises.org/agenda/evaluacion-diagnostica-2o-eso/
CATEGORIES:Secundaria
END:VEVENT
BEGIN:VEVENT
DTSTART;VALUE=DATE:20260515
DTEND;VALUE=DATE:20260516
DTSTAMP:20260423T001940
CREATED:20260302T111440Z
LAST-MODIFIED:20260302T111440Z
UID:22587-1778803200-1778889599@www.sagradafamiliamanises.org
SUMMARY:Coleolimpiadas diocesanas - 6º Primaria
DESCRIPTION:
URL:https://www.sagradafamiliamanises.org/agenda/coleolimpiadas-diocesanas-6o-primaria-3/
CATEGORIES:Primaria
END:VEVENT
BEGIN:VEVENT
DTSTART;VALUE=DATE:20260518
DTEND;VALUE=DATE:20260523
DTSTAMP:20260423T001940
CREATED:20260330T064415Z
LAST-MODIFIED:20260330T064415Z
UID:22714-1779062400-1779494399@www.sagradafamiliamanises.org
SUMMARY:Semana de la Familia
DESCRIPTION:
URL:https://www.sagradafamiliamanises.org/agenda/semana-de-la-familia-3/
CATEGORIES:Colegio
END:VEVENT
END:VCALENDAR