BEGIN:VCALENDAR
VERSION:2.0
PRODID:-//Colegio Sagrada Familia Manises - ECPv6.15.20//NONSGML v1.0//EN
CALSCALE:GREGORIAN
METHOD:PUBLISH
X-WR-CALNAME:Colegio Sagrada Familia Manises
X-ORIGINAL-URL:https://www.sagradafamiliamanises.org
X-WR-CALDESC:Eventos para Colegio Sagrada Familia Manises
REFRESH-INTERVAL;VALUE=DURATION:PT1H
X-Robots-Tag:noindex
X-PUBLISHED-TTL:PT1H
BEGIN:VTIMEZONE
TZID:Europe/Madrid
BEGIN:DAYLIGHT
TZOFFSETFROM:+0100
TZOFFSETTO:+0200
TZNAME:CEST
DTSTART:20250330T010000
END:DAYLIGHT
BEGIN:STANDARD
TZOFFSETFROM:+0200
TZOFFSETTO:+0100
TZNAME:CET
DTSTART:20251026T010000
END:STANDARD
BEGIN:DAYLIGHT
TZOFFSETFROM:+0100
TZOFFSETTO:+0200
TZNAME:CEST
DTSTART:20260329T010000
END:DAYLIGHT
BEGIN:STANDARD
TZOFFSETFROM:+0200
TZOFFSETTO:+0100
TZNAME:CET
DTSTART:20261025T010000
END:STANDARD
BEGIN:DAYLIGHT
TZOFFSETFROM:+0100
TZOFFSETTO:+0200
TZNAME:CEST
DTSTART:20270328T010000
END:DAYLIGHT
BEGIN:STANDARD
TZOFFSETFROM:+0200
TZOFFSETTO:+0100
TZNAME:CET
DTSTART:20271031T010000
END:STANDARD
END:VTIMEZONE
BEGIN:VEVENT
DTSTART;VALUE=DATE:20260422
DTEND;VALUE=DATE:20260423
DTSTAMP:20260422T180714
CREATED:20260330T063415Z
LAST-MODIFIED:20260330T063415Z
UID:22702-1776816000-1776902399@www.sagradafamiliamanises.org
SUMMARY:El mago de Oz - Infantil
DESCRIPTION:
URL:https://www.sagradafamiliamanises.org/agenda/el-mago-de-oz-infantil/
CATEGORIES:Infantil
END:VEVENT
BEGIN:VEVENT
DTSTART;VALUE=DATE:20260423
DTEND;VALUE=DATE:20260424
DTSTAMP:20260422T180714
CREATED:20260303T111557Z
LAST-MODIFIED:20260303T111557Z
UID:22631-1776902400-1776988799@www.sagradafamiliamanises.org
SUMMARY:La Valencia que no vemos - 2º ESO
DESCRIPTION:
URL:https://www.sagradafamiliamanises.org/agenda/la-valencia-que-no-vemos-2o-eso/
CATEGORIES:Secundaria
END:VEVENT
BEGIN:VEVENT
DTSTART;VALUE=DATE:20260423
DTEND;VALUE=DATE:20260424
DTSTAMP:20260422T180714
CREATED:20260303T111745Z
LAST-MODIFIED:20260303T111745Z
UID:22634-1776902400-1776988799@www.sagradafamiliamanises.org
SUMMARY:Puntal dels Llops - 3º ESO
DESCRIPTION:
URL:https://www.sagradafamiliamanises.org/agenda/puntal-dels-llops-3o-eso/
CATEGORIES:Secundaria
END:VEVENT
BEGIN:VEVENT
DTSTART;VALUE=DATE:20260426
DTEND;VALUE=DATE:20260501
DTSTAMP:20260422T180714
CREATED:20260223T084759Z
LAST-MODIFIED:20260223T084759Z
UID:22542-1777161600-1777593599@www.sagradafamiliamanises.org
SUMMARY:Viaje final etapa - 4º ESO
DESCRIPTION:Masella
URL:https://www.sagradafamiliamanises.org/agenda/viaje-final-etapa-4o-eso/
CATEGORIES:Secundaria
END:VEVENT
BEGIN:VEVENT
DTSTART;VALUE=DATE:20260427
DTEND;VALUE=DATE:20260430
DTSTAMP:20260422T180714
CREATED:20260302T111307Z
LAST-MODIFIED:20260302T111307Z
UID:22584-1777248000-1777507199@www.sagradafamiliamanises.org
SUMMARY:Talayuelas - 4º Primaria
DESCRIPTION:
URL:https://www.sagradafamiliamanises.org/agenda/talayuelas-4o-primaria/
CATEGORIES:Primaria
END:VEVENT
BEGIN:VEVENT
DTSTART;VALUE=DATE:20260428
DTEND;VALUE=DATE:20260429
DTSTAMP:20260422T180714
CREATED:20260303T111849Z
LAST-MODIFIED:20260303T111849Z
UID:22637-1777334400-1777420799@www.sagradafamiliamanises.org
SUMMARY:Pruebas A2 Inglés
DESCRIPTION:
URL:https://www.sagradafamiliamanises.org/agenda/pruebas-a2-ingles/
CATEGORIES:Secundaria
END:VEVENT
END:VCALENDAR